Workbook

Sheet Transactions
A1: Date | B1: Amount ($) | C1: Transaction Details | D1: Category in my chart of accounts | F1: My Chart of Accounts
A2: 43891 | B2: -100.36 | C2: ALLY FASSION THURINGOWA | D2: 2-1 - Clothing | F2: 1 - Revenue
A3: 43891 | B3: -0.64 | C3: Everyday Round up | D3: 2-2 - Savings round up | F3: =D14 -> 1-1 - Tyler Milne
A4: 43891 | B4: -0.5 | C4: Everyday Round up | D4: 2-2 - Savings round up | F4: =D22 -> 1-2 - Tyson MacGregor
A5: 43891 | B5: -47.3 | C5: COLES 4655 EXPRESS | D5: 2-3 - Fuel | F5: =D56 -> 1-3 - Refunds
A6: 43891 | B6: -0.7 | C6: Everyday Round up | D6: 2-2 - Savings round up | F6: =D69 -> 1-4 - Transfers
A7: 43892 | B7: -0.7 | C7: Everyday Round up | D7: 2-2 - Savings round up | F7: 2 - Expense
A8: 43892 | B8: -200 | C8: Yamaha Motor Finance | D8: 4-1 Liability - Motorbike Loan | F8: =D2 -> 2-1 - Clothing
A9: 43892 | B9: -0.2 | C9: Everyday Round up | D9: 2-2 - Savings round up | F9: =D3 -> 2-2 - Savings round up
A10: 43892 | B10: -50 | C10: Internal Transfer | D10: 2-5 - Internal Transfer | F10: =D75 -> 2-3 - Fuel
A11: 43893 | B11: -19.5 | C11: Woolworths 2234 | D11: 2-6 - Food | F11: =D10 -> 2-5 - Internal Transfer
A12: 43893 | B12: -13.3 | C12: DID Sturt Street | D12: 2-6 - Food | F12: =D11 -> 2-6 - Food
A13: 43893 | B13: -15 | C13: Kmart 1034 Townsville | D13: 2-1 - Clothing | F13: =D18 -> 2-8 - Education
A14: 43893 | B14: 779.1 | C14: Salary - Tyler Milne | D14: 1-1 - Tyler Milne | F14: =D19 -> 2-9 - Entertainment
A15: 43893 | B15: -290 | C15: Internal Transfer | D15: 2-5 - Internal Transfer | F15: =D44 -> 2-12 - Health & Beauty
A16: 43893 | B16: -200 | C16: Internal Transfer | D16: 2-5 - Internal Transfer | F16: =D79 -> 2-13 - Investment
A17: 43893 | B17: -93.65 | C17: PF Insurance | D17: 4-2 Liability - Insurance | F17: =D43 -> 2-14 - Holiday
A18: 43894 | B18: -172.46 | C18: ThomasReuters Estore | D18: 2-8 - Education | F18: =D27 -> 2-15 - Pets
A19: 43894 | B19: -13.99 | C19: Netflix | D19: 2-9 - Entertainment | F19: =D59 -> 2-16 - Other
A20: 43894 | B20: -9.8 | C20: Juliettes Espresso Pty | D20: 2-6 - Food | F20: 3 - Assets
A21: 43894 | B21: -0.75 | C21: Everyday Round up | D21: 2-2 - Savings round up | F21: 3-1 - Cash at bank
A22: 43894 | B22: 968.5 | C22: Salary - Tyson MacGregor | D22: 1-2 - Tyson MacGregor | F22: 4 - Liabilities
A23: 43894 | B23: -190 | C23: Internal Transfer | D23: 2-5 - Internal Transfer | F23: =D8 -> 4-1 Liability - Motorbike Loan
A24: 43894 | B24: -250 | C24: Internal Transfer | D24: 2-5 - Internal Transfer | F24: =D17 -> 4-2 Liability - Insurance
A25: 43894 | B25: -100 | C25: Internal Transfer | D25: 2-5 - Internal Transfer | F25: =D57 -> 4-3 Liability - Rent
A26: 43896 | B26: -200 | C26: Rent | D26: 4-3 Liability - Rent | F26: =D58 -> 4-4 - Gym
A27: 43897 | B27: -82.96 | C27: Petstock Pty Ltd | D27: 2-15 - Pets | F27: =D140 -> 4-5 - Phone
A28: 43897 | B28: -0.04 | C28: Everyday Round up | D28: 2-2 - Savings round up | F28: =D63 -> 4-6 - Power
A29: 43897 | B29: -24.99 | C29: Petbarn Pty Ltd | D29: 2-15 - Pets | F29: 5 - Equity
A30: 43897 | B30: -0.01 | C30: Everyday Round up | D30: 2-2 - Savings round up
A31: 43897 | B31: -0.5 | C31: Everyday Round up | D31: 2-2 - Savings round up
A32: 43897 | B32: -18.04 | C32: Coles Express 1967 Deeragun | D32: 2-3 - Fuel
A33: 43897 | B33: -0.96 | C33: Everyday Round up | D33: 2-2 - Savings round up
A34: 43897 | B34: -0.01 | C34: Everyday Round up | D34: 2-2 - Savings round up
A35: 43898 | B35: -63.26 | C35: Coles Express 1967 Kirwan | D35: 2-3 - Fuel
A36: 43898 | B36: -0.74 | C36: Everyday Round up | D36: 2-2 - Savings round up
A37: 43899 | B37: -5.99 | C37: Spotify | D37: 2-9 - Entertainment
A38: 43900 | B38: -15 | C38: KFC Woodlands | D38: 2-6 - Food
A39: 43900 | B39: -0.4 | C39: Everyday Round up | D39: 2-2 - Savings round up
A40: 43900 | B40: -0.37 | C40: Everyday Round up | D40: 2-2 - Savings round up
...

Sheet PL
B2: Tyson MacGregor
B3: Income Statement
B4: For the month ending 31 March 2020
C5: $
B6: Income
B7: Tyler Milne | C7: =Transactions!B14+Transactions!B70+Transactions!B139 -> 2314.39 | D7: =C7/C11 -> 0.33368032
B8: Tyson MacGregor | C8: =Transactions!B22+Transactions!B45+Transactions!B78+Transactions!B115 -> 3875.58 | D8: =C8/C11 -> 0.558767
B9: Refunds | C9: =Transactions!B56+Transactions!B86++Transactions!B94 -> 552.98 | D9: =C9/C11 -> 0.079726642
B10: Transfers | C10: =Transactions!B69+Transactions!B83+Transactions!B108 -> 193 | D10: =C10/C11 -> 0.027826037
B11: TOTAL INCOME | C11: =SUM(C7:C10) -> 6935.95 | D11: =SUM(D7:D10) -> 1
B12: EXPENSES
B13: Clothing | C13: =Transactions!B2+Transactions!B13+Transactions!B77+Transactions!B92+Transactions!B110 -> -290.36 | D13: =C13/C31 -> 0.031302927
B14: Savings Rounded up | C14: =Transactions!B3+Transactions!B4+Transactions!B6+Transactions!B7+Transactions!B9+Transactions!B21+Transactions!B28+Transactions!B30+Transactions!B31+Transactions!B33+Transactions!B34+Transactions!B36+Transactions!B39+Transactions!B40+Transactions!B41+Transactions!B53+Transactions!B61+Transactions!B64+Transactions!B68+Transactions!B72+Transactions!B96+Transactions!B98+Transactions!B99+Transactions!B100+Transactions!B103+Transactions!B105+Transactions!B106+Transactions!B107+Transactions!B113+Transactions!B116+Transactions!B124+Transactions!B127+Transactions!B128+Transactions!B130+Transactions!B131+Transactions!B134+Transactions!B135+Transactions!B136+Transactions!B142 -> -18.15 | D14: =C14/C31 -> 0.0019567024
B15: Fuel | C15: =Transactions!B5+Transactions!B32+Transactions!B35+Transactions!B52+Transactions!B54+Transactions!B75+Transactions!B95+Transactions!B141 -> -246.94 | D15: =C15/C31 -> 0.026621934
B16: Motorbike Loan | C16: =Transactions!B8+Transactions!B60+Transactions!B125 -> -900 | D16: =C16/C31 -> 0.097026567
B17: Internal Transfer | C17: =Transactions!B10+Transactions!B15+Transactions!B16+Transactions!B23+Transactions!B24+Transactions!B25+Transactions!B46+Transactions!B47+Transactions!B48+Transactions!B49+Transactions!B65+Transactions!B80+Transactions!B81+Transactions!B82+Transactions!B91+Transactions!B93+Transactions!B119+Transactions!B120+Transactions!B143+Transactions!B144+Transactions!B145 -> -2773.8 | D17: =C17/C31 -> 0.29903588
B18: Food | C18: =Transactions!B11+Transactions!B12+Transactions!B20+Transactions!B38+Transactions!B42+Transactions!B50+Transactions!B71+Transactions!B101+Transactions!B102+Transactions!B104+Transactions!B109+Transactions!B111+Transactions!B112+Transactions!B122+Transactions!B123+Transactions!B129+Transactions!B138 -> -549.64 | D18: =C18/C31 -> 0.059255203
B19: Insurance | C19: =Transactions!B17+Transactions!B89 -> -183.77 | D19: =C19/C31 -> 0.019811747
B20: Education | C20: =Transactions!B18 -> -172.46 | D20: =C20/C31 -> 0.018592446
B21: Entertainment | C21: =Transactions!B19+Transactions!B37+Transactions!B51+Transactions!B67+Transactions!B73+Transactions!B132 -> -929.53 | D21: =C21/C31 -> 0.10021012
B22: Rent | C22: =Transactions!B26+Transactions!B57+Transactions!B90+Transactions!B126 -> -800 | D22: =C22/C31 -> 0.086245837
B23: Pets | C23: =Transactions!B27+Transactions!B29+Transactions!B118 -> -182.95 | D23: =C23/C31 -> 0.019723345
B24: Health & Beauty | C24: =Transactions!B44+Transactions!B55+Transactions!B66+Transactions!B133 -> -525.72 | D24: =C24/C31 -> 0.056676452
B25: Gym | C25: =Transactions!B58+Transactions!B62+Transactions!B87+Transactions!B88 -> -108.07 | D25: =C25/C31 -> 0.011650735
B26: Other | C26: =Transactions!B59+Transactions!B74+Transactions!B114+Transactions!B117+Transactions!B137 -> -294.92 | D26: =C26/C31 -> 0.031794528
B27: Power | C27: =Transactions!B63 -> -470 | D27: =C27/C31 -> 0.050669429
B28: Investment | C28: =Transactions!B79+Transactions!B84+Transactions!B121 -> -140 | D28: =C28/C31 -> 0.015093022
B29: Holiday | C29: =Transactions!B43+Transactions!B97 -> -464 | D29: =C29/C31 -> 0.050022586
B30: Phone | C30: =Transactions!B140 -> -225.5 | D30: =C30/C31 -> 0.024310545
B31: TOTAL EXPENSES | C31: =SUM(C13:C30) -> -9275.81 | D31: =-C31/C11 -> 1.3373525
B33: Profit / (Loss) for the period | C33: =C11+C31 -> -2339.86 | D33: =D11-D31 -> -0.33735249
